BEGIN:VCALENDAR
VERSION:2.0
PRODID:-//Tukios.com/
BEGIN:VEVENT
UID:58de471c-6a4c-4b83-8c8b-8ceb9742fd6a@www.thestuartfuneralhomes.com
DTSTAMP:20260423T011455Z
DTSTART:20260425T200000Z
DTEND:20260425T230000Z
SUMMARY:Friends Received
DESCRIPTION:
URL:https://www.thestuartfuneralhomes.com/obituaries/melinda-rese
LOCATION:Richard C. Stuart Funeral Home 392 E. Philadelphia Street  
	Armagh PA 15920
GEO:40.454352;-79.0263309
END:VEVENT
END:VCALENDAR