BEGIN:VCALENDAR
VERSION:2.0
PRODID:-//Tukios.com/
BEGIN:VEVENT
UID:760f6dc4-dd71-4e28-91a6-6b049cf91d78@www.thestuartfuneralhomes.com
DTSTAMP:20260423T011522Z
DTSTART:20260425T230000Z
DTEND:20260425T233000Z
SUMMARY:Celebration of Life
DESCRIPTION:
URL:https://www.thestuartfuneralhomes.com/obituaries/melinda-rese
LOCATION:Richard C. Stuart Funeral Home 392 E. Philadelphia Street  
	Armagh PA 15920
GEO:40.454352;-79.0263309
END:VEVENT
END:VCALENDAR