BEGIN:VCALENDAR
VERSION:2.0
PRODID:-//Tukios.com/
BEGIN:VEVENT
UID:aca0f8ba-a931-4a8c-bab4-8e05d65abc44@www.thestuartfuneralhomes.com
DTSTAMP:20260425T194235Z
DTSTART:20260429T220000Z
DTEND:20260430T000000Z
SUMMARY:Friends Received
DESCRIPTION:
URL:https://www.thestuartfuneralhomes.com/obituaries/marjorie-brehm
LOCATION:Richard C. Stuart Funeral Home 392 E. Philadelphia Street  
	Armagh PA 15920
GEO:40.454352;-79.0263309
END:VEVENT
END:VCALENDAR