BEGIN:VCALENDAR
VERSION:2.0
PRODID:-//Tukios.com/
BEGIN:VEVENT
UID:56f3c0e3-4b78-4691-82cb-d608df95152f@www.thestuartfuneralhomes.com
DTSTAMP:20260425T194441Z
DTSTART:20260429T180000Z
DTEND:20260429T200000Z
SUMMARY:Friends Received
DESCRIPTION:
URL:https://www.thestuartfuneralhomes.com/obituaries/marjorie-brehm
LOCATION:Richard C. Stuart Funeral Home 392 E. Philadelphia Street  
	Armagh PA 15920
GEO:40.454352;-79.0263309
END:VEVENT
END:VCALENDAR