BEGIN:VCALENDAR
VERSION:2.0
PRODID:-//Tukios.com/
BEGIN:VEVENT
UID:bd3b2a8a-ba19-4be5-b0fa-cfb9c9752ce9@www.thestuartfuneralhomes.com
DTSTAMP:20260425T194711Z
DTSTART:20260430T150000Z
DTEND:20260430T154500Z
SUMMARY:Funeral Service
DESCRIPTION:
URL:https://www.thestuartfuneralhomes.com/obituaries/marjorie-brehm
LOCATION:Richard C. Stuart Funeral Home 392 E. Philadelphia Street  
	Armagh PA 15920
GEO:40.454352;-79.0263309
END:VEVENT
END:VCALENDAR