BEGIN:VCALENDAR
VERSION:2.0
PRODID:-//Tukios.com/
BEGIN:VEVENT
UID:881d1363-9246-4e9a-b2f5-06707a5c56d3@www.thestuartfuneralhomes.com
DTSTAMP:20260425T194303Z
DTSTART:20260430T161500Z
DTEND:20260430T163000Z
SUMMARY:Graveside Service
DESCRIPTION:
URL:https://www.thestuartfuneralhomes.com/obituaries/marjorie-brehm
LOCATION:Benshoff Hill Cemetery 846 Benshoff Hill Road  Johnstown PA 
	15906
GEO:40.3647968;-78.9208263
END:VEVENT
END:VCALENDAR